Workbook
Name Afghanistan: Ref!$AX$2:$AX$36
Name Åland_Islands: Ref!$IP$2
Name Albania: Ref!$AY$2:$AY$14
Name Algeria: Ref!$AZ$2:$AZ$60
Name American_Samoa: Ref!$IQ$2
Name Andorra: Ref!$BA$2:$BA$9
Name Angola: Ref!$BB$2:$BB$20
Name Anguilla: Ref!$IR$2
Name Antarctica: Ref!$IS$2
Name Antigua_and_Barbuda: Ref!$BC$2:$BC$10
Name Argentina: Ref!$BD$2:$BD$25
Name Armenia: Ref!$BE$2:$BE$13
Name Aruba: Ref!$IT$2
Name Australia: Ref!$BF$2:$BF$9
Name Austria: Ref!$BG$2:$BG$11
Name Azerbaijan: Ref!$BH$2:$BH$79
Name Bahamas: Ref!$BI$2:$BI$34
Name Bahrain: Ref!$BJ$2:$BJ$6
Name Bangladesh: Ref!$BK$2:$BK$9
Name Barbados: Ref!$BL$2:$BL$13
Name Belarus: Ref!$BM$2:$BM$9
Name Belgium: Ref!$BN$2:$BN$5
Name Belize: Ref!$BO$2:$BO$8
Name Benin: Ref!$BP$2:$BP$14
Name Bermuda: Ref!$IU$2
Name Bhutan: Ref!$BQ$2:$BQ$22
Name Bolivia: Ref!$BR$2:$BR$11
Name Bonaire__Sint_Eustatius_and_Saba: Ref!$BS$2:$BS$4
Name Bosnia_and_Herzegovina: Ref!$BT$2:$BT$5
Name Botswana: Ref!$BU$2:$BU$18
Name Bouvet_Island: Ref!$IV$2
Name Brazil: Ref!$BV$2:$BV$28
Name British_Indian_Ocean_Territory: Ref!$IW$2
Name Brunei_Darussalam: Ref!$BW$2:$BW$6
Name Bulgaria: Ref!$BX$2:$BX$30
Name Burkina_Faso: Ref!$BY$2:$BY$15
Name Burundi: Ref!$BZ$2:$BZ$20
Name Cabo_Verde: Ref!$CA$2:$CA$4
Name Cambodia: Ref!$CB$2:$CB$27
Name Cameroon: Ref!$CC$2:$CC$12
Name Canada: Ref!$CD$2:$CD$14
Name Cayman_Islands: Ref!$IX$2
Name Central_African_Republic: Ref!$CE$2:$CE$19
Name Chad: Ref!$CF$2:$CF$25
Name Chile: Ref!$CG$2:$CG$18
Name China: Ref!$CH$2:$CH$32
Name Christmas_Island: Ref!$IY$2
Name Cocos__Keeling__Islands: Ref!$IZ$2
Name Colombia: Ref!$CI$2:$CI$35
Name Comoros: Ref!$CJ$2:$CJ$5
Name Congo: Ref!$CL$2:$CL$14
Name Congo__Democratic_Republic_of_the: Ref!$CK$2:$CK$28
Name Cook_Islands: Ref!$JA$2
Name Costa_Rica: Ref!$CM$2:$CM$9
Name Côte_d_Ivoire: Ref!$CN$2:$CN$16
Name Croatia: Ref!$CO$2:$CO$23
Name Cuba: Ref!$CP$2:$CP$18
Name Curaçao: Ref!$JB$2
Name Cyprus: Ref!$CQ$2:$CQ$8
Name Czechia: Ref!$CR$2:$CR$16

Sheet TE-MM-TEM-119
C1: Materials Matter Standard Self-Assessment Tool for Certified Organizations TE-MM-TEM-119-V1.0
B3: Document information
B5: Document code
B7: Document code | D7: TE-MM-TEM-119
B9: Version
B11: Publication date | D11: 46296
B13: Document revision history | E13: Document revision notes
B15: 46296 | D15: V1.0 | E15: First version
B17: Copyright
B19: © 2026 Textile Exchange. All rights reserved. No part of this publication may be copied, modified, distributed, reproduced, republished, (re-)posted, translated, or transmitted in any manner or by any means to any media for publication or distribution, or for public or commercial purposes, without the express prior written consent of Textile Exchange. You may download and use the published material as provided by Textile Exchange, on the condition that such use is for personal and non-commercial informational purposes only, does not modify the publication material, and retains all proprietary notices.
B21: Disclaimer
B23: English is the official language of Textile Exchange documents. For any questions related to the accuracy of the information contained in any translation, refer to the official English version. Any discrepancies or differences created in any translation are not binding and have no effect for auditing or certification purposes.
B25: Document information © Textile Exchange | G25: Tab 1 of 4

Sheet Introduction
C1: Materials Matter Standard Self-Assessment Tool for Certified Organizations TE-MM-TEM-119-V1.0
B3: About the document
B5: TE-MM-TEM-119 Materials Matter Standard Self-Assessment Tool for Certified Organizations (TE-MM-TEM-119) has been designed as a free, comprehensive, and voluntary template for certified organizations conducting self-assessments to the TE-MM-STN-101 Materials Matter Standard (TE-101). This tool is designed to help certified organizations self-monitor, evaluate their processes, identify areas for improvement; and is not a substitute for the Materials Matter Standard or any Textile Exchange Standard. The TE-MM-GUI-132 Materials Matter Self Assessment for Certified Organizations Guidance provides guidance on how to use the self-assessment tool.
B6: The self-assessment tool contains four tabs: • The TE-MM-TEM-119 tab which contains document information. • The Introduction tab contains the document introduction. • The General tab which users will populate. And • The MMS criteria tab which will automatically fill in the relevant and necessary criteria based on information in the General tab. Follow the steps below to fill out the general tab and populate the self-assessment tool’s MMS criteria tab: 1. Open the self-assessment tool and navigate to the General tab. 2. Populate the fields of the General tab (for example, Certified organization name, Certified organization type, etc.). 3. In column R on row 45, select the relevant size category and certification activities from the drop-down menu. 4. Completing these steps will auto-populate the relevant and necessary criteria on the MMS criteria tab, including all relevant criteria, intent and clarification, conformity evaluation, and applicability. 5. Review the MMS criteria tab and complete the optional fields and conformity dropdowns to map out actionable next steps.
B7: NOTE: When using some of the type-in filters (for example, country/area or state/province), suggestions will appear after three letters have been typed in.
B8: Document references
B10: Textile Exchange provides additional policies, guidance documents, and templates to support the implementation of this document. All documents relevant to the standards system are available at the Textile Exchange Knowledge Center. The latest version (or code) of referenced documents, including any amendments (for example, calibrations), applies.
B11: The following documents are integral to understanding and implementing this document. This list is for reference only and is a non-exhaustive list:
B12: 1. | C12: TE-MM-GUI-132 Self-Assessment for Certified Organizations User Guidance (TE-MM-GUI-132).
B13: 2. | C13: TE-MM-STN-101 Materials Matter Standard (Materials Matter Standard, or simply "the Standard")
B14: Textile Exchange Knowledge Center Link
B16: Document definitions
B17: Refer to the Textile Exchange Glossary for definitions of terms used in this document.
B18: NOTE: TE-101 Terms and Definitions for Textile Exchange Standards and Related Documents will not be updated going forward and will become obsolete (that is, retired) alongside the mandatory implementation date of the Materials Matter Standard. The Textile Exchange Glossary takes precedence in case of any contradiction or omission.
B19: Textile Exchange Glossary Link
B20: TE-101 Terms and Definitions for Textile Exchange Standards and Related Documents Link
B22: Document feedback
B23: You may submit feedback to Textile Exchange’s standards system at any time by sending an email to standards@textileexchange.org.
B25: About the document © Textile Exchange | G25: Tab 2 of 4

Sheet General
F3: {=IF(E3>0,_xlfn.TEXTJOIN(",",TRUE,_xlfn._xlws.FILTER(#REF!,#REF!="NC")),"")}
F4: {=IF(E4>0,_xlfn.TEXTJOIN(",",TRUE,_xlfn._xlws.FILTER(#REF!,#REF!="NC")),"")}
L10: Materials Matter Standard Self-Assessment Tool for Certified Organizations TE-MM-TEM-119-V1.0
L13: Certified organization information
L15: * Certified organization name
L17: * Certified organization type
L19: * Materials
L20: Use the check boxes to select materials.
L26: CB client code
L28: Certified organization TE-ID
L30: Address
L32: City
L34: Country/Area
L36: State/Province
... L42: Sites
L43: * | Q43: * | R43: * | S43: *
L44: Site name | M44: Site TE-ID | N44: Site address | O44: Country/Area | P44: State/Province | Q44: Facility type | R44: Size category | S44: Certification activities
L45: =IF(N15="","",N15) | M45: =IF(N28="","",N28) | N45: =IF(N30="","",N30) | O45: =IF(N34="","",N34) | P45: =IF(N36="","",N36) | Q45: =IF(L45="","","Main site")
J8964: .

Sheet MMS criteria
F3: {=IF(E3>0,_xlfn.TEXTJOIN(",",TRUE,_xlfn._xlws.FILTER('MMS criteria'!$AB$14:$AP$14,'MMS criteria'!AB15:AP15="NC")),"")}
F4: {=IF(E4>0,_xlfn.TEXTJOIN(",",TRUE,_xlfn._xlws.FILTER('MMS criteria'!$AB$14:$AP$14,'MMS criteria'!AB16:AP16="NC")),"")}
K10: Materials Matter Standard Self-Assessment Tool for Certified Organizations TE-MM-TEM-119-V1.0
K11: Before proceding, please ensure that you have completed material selection, size category selection, and certifation activites selection for sites in the General tab. | AB11: Site Conformance:
R13: Conformity Evaluation | X13: Applicability | AB13: {=IFERROR(_xlfn.LET( _xlpm.data, _xlfn._xlws.FILTER(General!L45:L1048576, General!L45:L1048576 <> ""), _xlpm.n, ROWS(_xlpm.data), _xlpm.seq, _xlfn.SEQUENCE(1, _xlpm.n * 2), _xlpm.result, IF( MOD(_xlpm.seq, 2) = 1, INDEX(TRANSPOSE(_xlpm.data), (_xlpm.seq + 1) / 2), INDEX(TRANSPOSE(_xlpm.data), _xlpm.seq / 2) & "'s comment" ), _xlpm.result ),"")}
K14: Principle | L14: Theme | M14: Criterion # | N14: Criterion | O14: Intent and Clarification | P14: Level of Conformity | Q14: Was this a previous nonconformity? | R14: Conformity determination | S14: Description of findings | T14: Objective evidence | U14: Root cause | V14: Corrective action plan | W14: Status | X14: Type of site | Y14: Tier 4 type | Z14: Material | AB14: {=IFERROR(_xlfn.LET( _xlpm.data, _xlfn._xlws.FILTER(General!M45:M1048576, General!M45:M1048576 <> ""), _xlpm.n, ROWS(_xlpm.data), _xlpm.seq, _xlfn.SEQUENCE(1, _xlpm.n * 2 ), _xlpm.result, IF( MOD(_xlpm.seq, 2) = 1, INDEX(TRANSPOSE(_xlpm.data), (_xlpm.seq + 1) / 2), INDEX(TRANSPOSE(_xlpm.data), _xlpm.seq / 2) ), _xlpm.result ),"")}
I15: =IF(M15="","",INDEX(Criterion_list!F:F,MATCH('MMS criteria'!M15,Criterion_list!C:C,0))) | J15: {=IFERROR(_xlfn._xlws.FILTER('Criteria Mapping'!B:B,'Criteria Mapping'!G:G=1),"")} | K15: =IFERROR(IF(_xlfn.XLOOKUP($M15,Criterion_list!$C:$C,Criterion_list!A:A)=0,"",_xlfn.XLOOKUP($M15,Criterion_list!$C:$C,Criterion_list!A:A)),"") | L15: =IFERROR(IF(_xlfn.XLOOKUP($M15,Criterion_list!$C:$C,Criterion_list!B:B)=0,"",_xlfn.XLOOKUP($M15,Criterion_list!$C:$C,Criterion_list!B:B)),"") | M15: =IF(J15="","",_xlfn.XLOOKUP(J15,'Criteria Mapping'!B:B,'Criteria Mapping'!A:A)) | N15: =IFERROR(IF(_xlfn.XLOOKUP($J15,Criterion_list!$J:$J,Criterion_list!D:D)=0,"",_xlfn.XLOOKUP($J15,Criterion_list!$J:$J,Criterion_list!D:D)),"") | O15: =IFERROR(IF(_xlfn.XLOOKUP($M15,Criterion_list!$C:$C,Criterion_list!E:E)=0,"",_xlfn.XLOOKUP($M15,Criterion_list!$C:$C,Criterion_list!E:E)),"") | R15: =IF(M15="","",IF((COUNTIFS(AB15:XFD15,"NC")+COUNTIFS(AB15:XFD15,"NA")+COUNTIFS(AB15:XFD15,"C"))<COUNTA($AB$13:$XFD$13)/2,"Please select conformity for all sites",IF(COUNTIF(AB15:XFD15,"NC")>0,"NC",IF(COUNTIF(AB15:XFD15,"C")>0,"C","NA")))) | X15: =IF(M15="","",_xlfn.XLOOKUP(M15,'Criteria Mapping'!A:A,'Criteria Mapping'!W:W)) | Y15: =IF(M15="","",_xlfn.XLOOKUP(M15,'Criteria Mapping'!A:A,'Criteria Mapping'!AH:AH)) | Z15: =IF(M15="","",_xlfn.XLOOKUP(M15,'Criteria Mapping'!A:A,'Criteria Mapping'!AD:AD))
I16: =IF(M16="","",INDEX(Criterion_list!F:F,MATCH('MMS criteria'!M16,Criterion_list!C:C,0))) | K16: =IFERROR(IF(_xlfn.XLOOKUP($M16,Criterion_list!$C:$C,Criterion_list!A:A)=0,"",_xlfn.XLOOKUP($M16,Criterion_list!$C:$C,Criterion_list!A:A)),"") | L16: =IFERROR(IF(_xlfn.XLOOKUP($M16,Criterion_list!$C:$C,Criterion_list!B:B)=0,"",_xlfn.XLOOKUP($M16,Criterion_list!$C:$C,Criterion_list!B:B)),"") | M16: =IF(J16="","",_xlfn.XLOOKUP(J16,'Criteria Mapping'!B:B,'Criteria Mapping'!A:A)) | N16: =IFERROR(IF(_xlfn.XLOOKUP($J16,Criterion_list!$J:$J,Criterion_list!D:D)=0,"",_xlfn.XLOOKUP($J16,Criterion_list!$J:$J,Criterion_list!D:D)),"") | O16: =IFERROR(IF(_xlfn.XLOOKUP($M16,Criterion_list!$C:$C,Criterion_list!E:E)=0,"",_xlfn.XLOOKUP($M16,Criterion_list!$C:$C,Criterion_list!E:E)),"") | R16: =IF(M16="","",IF((COUNTIFS(AB16:XFD16,"NC")+COUNTIFS(AB16:XFD16,"NA")+COUNTIFS(AB16:XFD16,"C"))<COUNTA($AB$13:$XFD$13)/2,"Please select conformity for all sites",IF(COUNTIF(AB16:XFD16,"NC")>0,"NC",IF(COUNTIF(AB16:XFD16,"C")>0,"C","NA")))) | X16: =IF(M16="","",_xlfn.XLOOKUP(M16,'Criteria Mapping'!A:A,'Criteria Mapping'!W:W)) | Y16: =IF(M16="","",_xlfn.XLOOKUP(M16,'Criteria Mapping'!A:A,'Criteria Mapping'!AH:AH)) | Z16: =IF(M16="","",_xlfn.XLOOKUP(M16,'Criteria Mapping'!A:A,'Criteria Mapping'!AD:AD))
I17: =IF(M17="","",INDEX(Criterion_list!F:F,MATCH('MMS criteria'!M17,Criterion_list!C:C,0))) | K17: =IFERROR(IF(_xlfn.XLOOKUP($M17,Criterion_list!$C:$C,Criterion_list!A:A)=0,"",_xlfn.XLOOKUP($M17,Criterion_list!$C:$C,Criterion_list!A:A)),"") | L17: =IFERROR(IF(_xlfn.XLOOKUP($M17,Criterion_list!$C:$C,Criterion_list!B:B)=0,"",_xlfn.XLOOKUP($M17,Criterion_list!$C:$C,Criterion_list!B:B)),"") | M17: =IF(J17="","",_xlfn.XLOOKUP(J17,'Criteria Mapping'!B:B,'Criteria Mapping'!A:A)) | N17: =IFERROR(IF(_xlfn.XLOOKUP($J17,Criterion_list!$J:$J,Criterion_list!D:D)=0,"",_xlfn.XLOOKUP($J17,Criterion_list!$J:$J,Criterion_list!D:D)),"") | O17: =IFERROR(IF(_xlfn.XLOOKUP($M17,Criterion_list!$C:$C,Criterion_list!E:E)=0,"",_xlfn.XLOOKUP($M17,Criterion_list!$C:$C,Criterion_list!E:E)),"") | R17: =IF(M17="","",IF((COUNTIFS(AB17:XFD17,"NC")+COUNTIFS(AB17:XFD17,"NA")+COUNTIFS(AB17:XFD17,"C"))<COUNTA($AB$13:$XFD$13)/2,"Please select conformity for all sites",IF(COUNTIF(AB17:XFD17,"NC")>0,"NC",IF(COUNTIF(AB17:XFD17,"C")>0,"C","NA")))) | X17: =IF(M17="","",_xlfn.XLOOKUP(M17,'Criteria Mapping'!A:A,'Criteria Mapping'!W:W)) | Y17: =IF(M17="","",_xlfn.XLOOKUP(M17,'Criteria Mapping'!A:A,'Criteria Mapping'!AH:AH)) | Z17: =IF(M17="","",_xlfn.XLOOKUP(M17,'Criteria Mapping'!A:A,'Criteria Mapping'!AD:AD))
I18: =IF(M18="","",INDEX(Criterion_list!F:F,MATCH('MMS criteria'!M18,Criterion_list!C:C,0))) | K18: =IFERROR(IF(_xlfn.XLOOKUP($M18,Criterion_list!$C:$C,Criterion_list!A:A)=0,"",_xlfn.XLOOKUP($M18,Criterion_list!$C:$C,Criterion_list!A:A)),"") | L18: =IFERROR(IF(_xlfn.XLOOKUP($M18,Criterion_list!$C:$C,Criterion_list!B:B)=0,"",_xlfn.XLOOKUP($M18,Criterion_list!$C:$C,Criterion_list!B:B)),"") | M18: =IF(J18="","",_xlfn.XLOOKUP(J18,'Criteria Mapping'!B:B,'Criteria Mapping'!A:A)) | N18: =IFERROR(IF(_xlfn.XLOOKUP($J18,Criterion_list!$J:$J,Criterion_list!D:D)=0,"",_xlfn.XLOOKUP($J18,Criterion_list!$J:$J,Criterion_list!D:D)),"") | O18: =IFERROR(IF(_xlfn.XLOOKUP($M18,Criterion_list!$C:$C,Criterion_list!E:E)=0,"",_xlfn.XLOOKUP($M18,Criterion_list!$C:$C,Criterion_list!E:E)),"") | R18: =IF(M18="","",IF((COUNTIFS(AB18:XFD18,"NC")+COUNTIFS(AB18:XFD18,"NA")+COUNTIFS(AB18:XFD18,"C"))<COUNTA($AB$13:$XFD$13)/2,"Please select conformity for all sites",IF(COUNTIF(AB18:XFD18,"NC")>0,"NC",IF(COUNTIF(AB18:XFD18,"C")>0,"C","NA")))) | X18: =IF(M18="","",_xlfn.XLOOKUP(M18,'Criteria Mapping'!A:A,'Criteria Mapping'!W:W)) | Y18: =IF(M18="","",_xlfn.XLOOKUP(M18,'Criteria Mapping'!A:A,'Criteria Mapping'!AH:AH)) | Z18: =IF(M18="","",_xlfn.XLOOKUP(M18,'Criteria Mapping'!A:A,'Criteria Mapping'!AD:AD))
I19: =IF(M19="","",INDEX(Criterion_list!F:F,MATCH('MMS criteria'!M19,Criterion_list!C:C,0))) | K19: =IFERROR(IF(_xlfn.XLOOKUP($M19,Criterion_list!$C:$C,Criterion_list!A:A)=0,"",_xlfn.XLOOKUP($M19,Criterion_list!$C:$C,Criterion_list!A:A)),"") | L19: =IFERROR(IF(_xlfn.XLOOKUP($M19,Criterion_list!$C:$C,Criterion_list!B:B)=0,"",_xlfn.XLOOKUP($M19,Criterion_list!$C:$C,Criterion_list!B:B)),"") | M19: =IF(J19="","",_xlfn.XLOOKUP(J19,'Criteria Mapping'!B:B,'Criteria Mapping'!A:A)) | N19: =IFERROR(IF(_xlfn.XLOOKUP($J19,Criterion_list!$J:$J,Criterion_list!D:D)=0,"",_xlfn.XLOOKUP($J19,Criterion_list!$J:$J,Criterion_list!D:D)),"") | O19: =IFERROR(IF(_xlfn.XLOOKUP($M19,Criterion_list!$C:$C,Criterion_list!E:E)=0,"",_xlfn.XLOOKUP($M19,Criterion_list!$C:$C,Criterion_list!E:E)),"") | R19: =IF(M19="","",IF((COUNTIFS(AB19:XFD19,"NC")+COUNTIFS(AB19:XFD19,"NA")+COUNTIFS(AB19:XFD19,"C"))<COUNTA($AB$13:$XFD$13)/2,"Please select conformity for all sites",IF(COUNTIF(AB19:XFD19,"NC")>0,"NC",IF(COUNTIF(AB19:XFD19,"C")>0,"C","NA")))) | X19: =IF(M19="","",_xlfn.XLOOKUP(M19,'Criteria Mapping'!A:A,'Criteria Mapping'!W:W)) | Y19: =IF(M19="","",_xlfn.XLOOKUP(M19,'Criteria Mapping'!A:A,'Criteria Mapping'!AH:AH)) | Z19: =IF(M19="","",_xlfn.XLOOKUP(M19,'Criteria Mapping'!A:A,'Criteria Mapping'!AD:AD))
I20: =IF(M20="","",INDEX(Criterion_list!F:F,MATCH('MMS criteria'!M20,Criterion_list!C:C,0))) | K20: =IFERROR(IF(_xlfn.XLOOKUP($M20,Criterion_list!$C:$C,Criterion_list!A:A)=0,"",_xlfn.XLOOKUP($M20,Criterion_list!$C:$C,Criterion_list!A:A)),"") | L20: =IFERROR(IF(_xlfn.XLOOKUP($M20,Criterion_list!$C:$C,Criterion_list!B:B)=0,"",_xlfn.XLOOKUP($M20,Criterion_list!$C:$C,Criterion_list!B:B)),"") | M20: =IF(J20="","",_xlfn.XLOOKUP(J20,'Criteria Mapping'!B:B,'Criteria Mapping'!A:A)) | N20: =IFERROR(IF(_xlfn.XLOOKUP($J20,Criterion_list!$J:$J,Criterion_list!D:D)=0,"",_xlfn.XLOOKUP($J20,Criterion_list!$J:$J,Criterion_list!D:D)),"") | O20: =IFERROR(IF(_xlfn.XLOOKUP($M20,Criterion_list!$C:$C,Criterion_list!E:E)=0,"",_xlfn.XLOOKUP($M20,Criterion_list!$C:$C,Criterion_list!E:E)),"") | R20: =IF(M20="","",IF((COUNTIFS(AB20:XFD20,"NC")+COUNTIFS(AB20:XFD20,"NA")+COUNTIFS(AB20:XFD20,"C"))<COUNTA($AB$13:$XFD$13)/2,"Please select conformity for all sites",IF(COUNTIF(AB20:XFD20,"NC")>0,"NC",IF(COUNTIF(AB20:XFD20,"C")>0,"C","NA")))) | X20: =IF(M20="","",_xlfn.XLOOKUP(M20,'Criteria Mapping'!A:A,'Criteria Mapping'!W:W)) | Y20: =IF(M20="","",_xlfn.XLOOKUP(M20,'Criteria Mapping'!A:A,'Criteria Mapping'!AH:AH)) | Z20: =IF(M20="","",_xlfn.XLOOKUP(M20,'Criteria Mapping'!A:A,'Criteria Mapping'!AD:AD))
I21: =IF(M21="","",INDEX(Criterion_list!F:F,MATCH('MMS criteria'!M21,Criterion_list!C:C,0))) | K21: =IFERROR(IF(_xlfn.XLOOKUP($M21,Criterion_list!$C:$C,Criterion_list!A:A)=0,"",_xlfn.XLOOKUP($M21,Criterion_list!$C:$C,Criterion_list!A:A)),"") | L21: =IFERROR(IF(_xlfn.XLOOKUP($M21,Criterion_list!$C:$C,Criterion_list!B:B)=0,"",_xlfn.XLOOKUP($M21,Criterion_list!$C:$C,Criterion_list!B:B)),"") | M21: =IF(J21="","",_xlfn.XLOOKUP(J21,'Criteria Mapping'!B:B,'Criteria Mapping'!A:A)) | N21: =IFERROR(IF(_xlfn.XLOOKUP($J21,Criterion_list!$J:$J,Criterion_list!D:D)=0,"",_xlfn.XLOOKUP($J21,Criterion_list!$J:$J,Criterion_list!D:D)),"") | O21: =IFERROR(IF(_xlfn.XLOOKUP($M21,Criterion_list!$C:$C,Criterion_list!E:E)=0,"",_xlfn.XLOOKUP($M21,Criterion_list!$C:$C,Criterion_list!E:E)),"") | R21: =IF(M21="","",IF((COUNTIFS(AB21:XFD21,"NC")+COUNTIFS(AB21:XFD21,"NA")+COUNTIFS(AB21:XFD21,"C"))<COUNTA($AB$13:$XFD$13)/2,"Please select conformity for all sites",IF(COUNTIF(AB21:XFD21,"NC")>0,"NC",IF(COUNTIF(AB21:XFD21,"C")>0,"C","NA")))) | X21: =IF(M21="","",_xlfn.XLOOKUP(M21,'Criteria Mapping'!A:A,'Criteria Mapping'!W:W)) | Y21: =IF(M21="","",_xlfn.XLOOKUP(M21,'Criteria Mapping'!A:A,'Criteria Mapping'!AH:AH)) | Z21: =IF(M21="","",_xlfn.XLOOKUP(M21,'Criteria Mapping'!A:A,'Criteria Mapping'!AD:AD))
I22: =IF(M22="","",INDEX(Criterion_list!F:F,MATCH('MMS criteria'!M22,Criterion_list!C:C,0))) | K22: =IFERROR(IF(_xlfn.XLOOKUP($M22,Criterion_list!$C:$C,Criterion_list!A:A)=0,"",_xlfn.XLOOKUP($M22,Criterion_list!$C:$C,Criterion_list!A:A)),"") | L22: =IFERROR(IF(_xlfn.XLOOKUP($M22,Criterion_list!$C:$C,Criterion_list!B:B)=0,"",_xlfn.XLOOKUP($M22,Criterion_list!$C:$C,Criterion_list!B:B)),"") | M22: =IF(J22="","",_xlfn.XLOOKUP(J22,'Criteria Mapping'!B:B,'Criteria Mapping'!A:A)) | N22: =IFERROR(IF(_xlfn.XLOOKUP($J22,Criterion_list!$J:$J,Criterion_list!D:D)=0,"",_xlfn.XLOOKUP($J22,Criterion_list!$J:$J,Criterion_list!D:D)),"") | O22: =IFERROR(IF(_xlfn.XLOOKUP($M22,Criterion_list!$C:$C,Criterion_list!E:E)=0,"",_xlfn.XLOOKUP($M22,Criterion_list!$C:$C,Criterion_list!E:E)),"") | R22: =IF(M22="","",IF((COUNTIFS(AB22:XFD22,"NC")+COUNTIFS(AB22:XFD22,"NA")+COUNTIFS(AB22:XFD22,"C"))<COUNTA($AB$13:$XFD$13)/2,"Please select conformity for all sites",IF(COUNTIF(AB22:XFD22,"NC")>0,"NC",IF(COUNTIF(AB22:XFD22,"C")>0,"C","NA")))) | X22: =IF(M22="","",_xlfn.XLOOKUP(M22,'Criteria Mapping'!A:A,'Criteria Mapping'!W:W)) | Y22: =IF(M22="","",_xlfn.XLOOKUP(M22,'Criteria Mapping'!A:A,'Criteria Mapping'!AH:AH)) | Z22: =IF(M22="","",_xlfn.XLOOKUP(M22,'Criteria Mapping'!A:A,'Criteria Mapping'!AD:AD))
I23: =IF(M23="","",INDEX(Criterion_list!F:F,MATCH('MMS criteria'!M23,Criterion_list!C:C,0))) | K23: =IFERROR(IF(_xlfn.XLOOKUP($M23,Criterion_list!$C:$C,Criterion_list!A:A)=0,"",_xlfn.XLOOKUP($M23,Criterion_list!$C:$C,Criterion_list!A:A)),"") | L23: =IFERROR(IF(_xlfn.XLOOKUP($M23,Criterion_list!$C:$C,Criterion_list!B:B)=0,"",_xlfn.XLOOKUP($M23,Criterion_list!$C:$C,Criterion_list!B:B)),"") | M23: =IF(J23="","",_xlfn.XLOOKUP(J23,'Criteria Mapping'!B:B,'Criteria Mapping'!A:A)) | N23: =IFERROR(IF(_xlfn.XLOOKUP($J23,Criterion_list!$J:$J,Criterion_list!D:D)=0,"",_xlfn.XLOOKUP($J23,Criterion_list!$J:$J,Criterion_list!D:D)),"") | O23: =IFERROR(IF(_xlfn.XLOOKUP($M23,Criterion_list!$C:$C,Criterion_list!E:E)=0,"",_xlfn.XLOOKUP($M23,Criterion_list!$C:$C,Criterion_list!E:E)),"") | R23: =IF(M23="","",IF((COUNTIFS(AB23:XFD23,"NC")+COUNTIFS(AB23:XFD23,"NA")+COUNTIFS(AB23:XFD23,"C"))<COUNTA($AB$13:$XFD$13)/2,"Please select conformity for all sites",IF(COUNTIF(AB23:XFD23,"NC")>0,"NC",IF(COUNTIF(AB23:XFD23,"C")>0,"C","NA")))) | X23: =IF(M23="","",_xlfn.XLOOKUP(M23,'Criteria Mapping'!A:A,'Criteria Mapping'!W:W)) | Y23: =IF(M23="","",_xlfn.XLOOKUP(M23,'Criteria Mapping'!A:A,'Criteria Mapping'!AH:AH)) | Z23: =IF(M23="","",_xlfn.XLOOKUP(M23,'Criteria Mapping'!A:A,'Criteria Mapping'!AD:AD))
I24: =IF(M24="","",INDEX(Criterion_list!F:F,MATCH('MMS criteria'!M24,Criterion_list!C:C,0))) | K24: =IFERROR(IF(_xlfn.XLOOKUP($M24,Criterion_list!$C:$C,Criterion_list!A:A)=0,"",_xlfn.XLOOKUP($M24,Criterion_list!$C:$C,Criterion_list!A:A)),"") | L24: =IFERROR(IF(_xlfn.XLOOKUP($M24,Criterion_list!$C:$C,Criterion_list!B:B)=0,"",_xlfn.XLOOKUP($M24,Criterion_list!$C:$C,Criterion_list!B:B)),"") | M24: =IF(J24="","",_xlfn.XLOOKUP(J24,'Criteria Mapping'!B:B,'Criteria Mapping'!A:A)) | N24: =IFERROR(IF(_xlfn.XLOOKUP($J24,Criterion_list!$J:$J,Criterion_list!D:D)=0,"",_xlfn.XLOOKUP($J24,Criterion_list!$J:$J,Criterion_list!D:D)),"") | O24: =IFERROR(IF(_xlfn.XLOOKUP($M24,Criterion_list!$C:$C,Criterion_list!E:E)=0,"",_xlfn.XLOOKUP($M24,Criterion_list!$C:$C,Criterion_list!E:E)),"") | R24: =IF(M24="","",IF((COUNTIFS(AB24:XFD24,"NC")+COUNTIFS(AB24:XFD24,"NA")+COUNTIFS(AB24:XFD24,"C"))<COUNTA($AB$13:$XFD$13)/2,"Please select conformity for all sites",IF(COUNTIF(AB24:XFD24,"NC")>0,"NC",IF(COUNTIF(AB24:XFD24,"C")>0,"C","NA")))) | X24: =IF(M24="","",_xlfn.XLOOKUP(M24,'Criteria Mapping'!A:A,'Criteria Mapping'!W:W)) | Y24: =IF(M24="","",_xlfn.XLOOKUP(M24,'Criteria Mapping'!A:A,'Criteria Mapping'!AH:AH)) | Z24: =IF(M24="","",_xlfn.XLOOKUP(M24,'Criteria Mapping'!A:A,'Criteria Mapping'!AD:AD))
I25: =IF(M25="","",INDEX(Criterion_list!F:F,MATCH('MMS criteria'!M25,Criterion_list!C:C,0))) | K25: =IFERROR(IF(_xlfn.XLOOKUP($M25,Criterion_list!$C:$C,Criterion_list!A:A)=0,"",_xlfn.XLOOKUP($M25,Criterion_list!$C:$C,Criterion_list!A:A)),"") | L25: =IFERROR(IF(_xlfn.XLOOKUP($M25,Criterion_list!$C:$C,Criterion_list!B:B)=0,"",_xlfn.XLOOKUP($M25,Criterion_list!$C:$C,Criterion_list!B:B)),"") | M25: =IF(J25="","",_xlfn.XLOOKUP(J25,'Criteria Mapping'!B:B,'Criteria Mapping'!A:A)) | N25: =IFERROR(IF(_xlfn.XLOOKUP($J25,Criterion_list!$J:$J,Criterion_list!D:D)=0,"",_xlfn.XLOOKUP($J25,Criterion_list!$J:$J,Criterion_list!D:D)),"") | O25: =IFERROR(IF(_xlfn.XLOOKUP($M25,Criterion_list!$C:$C,Criterion_list!E:E)=0,"",_xlfn.XLOOKUP($M25,Criterion_list!$C:$C,Criterion_list!E:E)),"") | R25: =IF(M25="","",IF((COUNTIFS(AB25:XFD25,"NC")+COUNTIFS(AB25:XFD25,"NA")+COUNTIFS(AB25:XFD25,"C"))<COUNTA($AB$13:$XFD$13)/2,"Please select conformity for all sites",IF(COUNTIF(AB25:XFD25,"NC")>0,"NC",IF(COUNTIF(AB25:XFD25,"C")>0,"C","NA")))) | X25: =IF(M25="","",_xlfn.XLOOKUP(M25,'Criteria Mapping'!A:A,'Criteria Mapping'!W:W)) | Y25: =IF(M25="","",_xlfn.XLOOKUP(M25,'Criteria Mapping'!A:A,'Criteria Mapping'!AH:AH)) | Z25: =IF(M25="","",_xlfn.XLOOKUP(M25,'Criteria Mapping'!A:A,'Criteria Mapping'!AD:AD))
I26: =IF(M26="","",INDEX(Criterion_list!F:F,MATCH('MMS criteria'!M26,Criterion_list!C:C,0))) | K26: =IFERROR(IF(_xlfn.XLOOKUP($M26,Criterion_list!$C:$C,Criterion_list!A:A)=0,"",_xlfn.XLOOKUP($M26,Criterion_list!$C:$C,Criterion_list!A:A)),"") | L26: =IFERROR(IF(_xlfn.XLOOKUP($M26,Criterion_list!$C:$C,Criterion_list!B:B)=0,"",_xlfn.XLOOKUP($M26,Criterion_list!$C:$C,Criterion_list!B:B)),"") | M26: =IF(J26="","",_xlfn.XLOOKUP(J26,'Criteria Mapping'!B:B,'Criteria Mapping'!A:A)) | N26: =IFERROR(IF(_xlfn.XLOOKUP($J26,Criterion_list!$J:$J,Criterion_list!D:D)=0,"",_xlfn.XLOOKUP($J26,Criterion_list!$J:$J,Criterion_list!D:D)),"") | O26: =IFERROR(IF(_xlfn.XLOOKUP($M26,Criterion_list!$C:$C,Criterion_list!E:E)=0,"",_xlfn.XLOOKUP($M26,Criterion_list!$C:$C,Criterion_list!E:E)),"") | R26: =IF(M26="","",IF((COUNTIFS(AB26:XFD26,"NC")+COUNTIFS(AB26:XFD26,"NA")+COUNTIFS(AB26:XFD26,"C"))<COUNTA($AB$13:$XFD$13)/2,"Please select conformity for all sites",IF(COUNTIF(AB26:XFD26,"NC")>0,"NC",IF(COUNTIF(AB26:XFD26,"C")>0,"C","NA")))) | X26: =IF(M26="","",_xlfn.XLOOKUP(M26,'Criteria Mapping'!A:A,'Criteria Mapping'!W:W)) | Y26: =IF(M26="","",_xlfn.XLOOKUP(M26,'Criteria Mapping'!A:A,'Criteria Mapping'!AH:AH)) | Z26: =IF(M26="","",_xlfn.XLOOKUP(M26,'Criteria Mapping'!A:A,'Criteria Mapping'!AD:AD))
I27: =IF(M27="","",INDEX(Criterion_list!F:F,MATCH('MMS criteria'!M27,Criterion_list!C:C,0))) | K27: =IFERROR(IF(_xlfn.XLOOKUP($M27,Criterion_list!$C:$C,Criterion_list!A:A)=0,"",_xlfn.XLOOKUP($M27,Criterion_list!$C:$C,Criterion_list!A:A)),"") | L27: =IFERROR(IF(_xlfn.XLOOKUP($M27,Criterion_list!$C:$C,Criterion_list!B:B)=0,"",_xlfn.XLOOKUP($M27,Criterion_list!$C:$C,Criterion_list!B:B)),"") | M27: =IF(J27="","",_xlfn.XLOOKUP(J27,'Criteria Mapping'!B:B,'Criteria Mapping'!A:A)) | N27: =IFERROR(IF(_xlfn.XLOOKUP($J27,Criterion_list!$J:$J,Criterion_list!D:D)=0,"",_xlfn.XLOOKUP($J27,Criterion_list!$J:$J,Criterion_list!D:D)),"") | O27: =IFERROR(IF(_xlfn.XLOOKUP($M27,Criterion_list!$C:$C,Criterion_list!E:E)=0,"",_xlfn.XLOOKUP($M27,Criterion_list!$C:$C,Criterion_list!E:E)),"") | R27: =IF(M27="","",IF((COUNTIFS(AB27:XFD27,"NC")+COUNTIFS(AB27:XFD27,"NA")+COUNTIFS(AB27:XFD27,"C"))<COUNTA($AB$13:$XFD$13)/2,"Please select conformity for all sites",IF(COUNTIF(AB27:XFD27,"NC")>0,"NC",IF(COUNTIF(AB27:XFD27,"C")>0,"C","NA")))) | X27: =IF(M27="","",_xlfn.XLOOKUP(M27,'Criteria Mapping'!A:A,'Criteria Mapping'!W:W)) | Y27: =IF(M27="","",_xlfn.XLOOKUP(M27,'Criteria Mapping'!A:A,'Criteria Mapping'!AH:AH)) | Z27: =IF(M27="","",_xlfn.XLOOKUP(M27,'Criteria Mapping'!A:A,'Criteria Mapping'!AD:AD))
... I188: =IF(M188="","",INDEX(Criterion_list!F:F,MATCH('MMS criteria'!M188,Criterion_list!C:C,0))) | K188: =IFERROR(IF(_xlfn.XLOOKUP($M188,Criterion_list!$C:$C,Criterion_list!A:A)=0,"",_xlfn.XLOOKUP($M188,Criterion_list!$C:$C,Criterion_list!A:A)),"") | L188: =IFERROR(IF(_xlfn.XLOOKUP($M188,Criterion_list!$C:$C,Criterion_list!B:B)=0,"",_xlfn.XLOOKUP($M188,Criterion_list!$C:$C,Criterion_list!B:B)),"") | M188: =IF(J188="","",_xlfn.XLOOKUP(J188,'Criteria Mapping'!B:B,'Criteria Mapping'!A:A)) | N188: =IFERROR(IF(_xlfn.XLOOKUP($J188,Criterion_list!$J:$J,Criterion_list!D:D)=0,"",_xlfn.XLOOKUP($J188,Criterion_list!$J:$J,Criterion_list!D:D)),"") | O188: =IFERROR(IF(_xlfn.XLOOKUP($M188,Criterion_list!$C:$C,Criterion_list!E:E)=0,"",_xlfn.XLOOKUP($M188,Criterion_list!$C:$C,Criterion_list!E:E)),"") | R188: =IF(M188="","",IF((COUNTIFS(AB188:XFD188,"NC")+COUNTIFS(AB188:XFD188,"NA")+COUNTIFS(AB188:XFD188,"C"))<COUNTA($AB$13:$XFD$13)/2,"Please select conformity for all sites",IF(COUNTIF(AB188:XFD188,"NC")>0,"NC",IF(COUNTIF(AB188:XFD188,"C")>0,"C","NA")))) | X188: =IF(M188="","",_xlfn.XLOOKUP(M188,'Criteria Mapping'!A:A,'Criteria Mapping'!W:W)) | Y188: =IF(M188="","",_xlfn.XLOOKUP(M188,'Criteria Mapping'!A:A,'Criteria Mapping'!AH:AH)) | Z188: =IF(M188="","",_xlfn.XLOOKUP(M188,'Criteria Mapping'!A:A,'Criteria Mapping'!AD:AD))
I189: =IF(M189="","",INDEX(Criterion_list!F:F,MATCH('MMS criteria'!M189,Criterion_list!C:C,0))) | K189: =IFERROR(IF(_xlfn.XLOOKUP($M189,Criterion_list!$C:$C,Criterion_list!A:A)=0,"",_xlfn.XLOOKUP($M189,Criterion_list!$C:$C,Criterion_list!A:A)),"") | L189: =IFERROR(IF(_xlfn.XLOOKUP($M189,Criterion_list!$C:$C,Criterion_list!B:B)=0,"",_xlfn.XLOOKUP($M189,Criterion_list!$C:$C,Criterion_list!B:B)),"") | M189: =IF(J189="","",_xlfn.XLOOKUP(J189,'Criteria Mapping'!B:B,'Criteria Mapping'!A:A)) | N189: =IFERROR(IF(_xlfn.XLOOKUP($J189,Criterion_list!$J:$J,Criterion_list!D:D)=0,"",_xlfn.XLOOKUP($J189,Criterion_list!$J:$J,Criterion_list!D:D)),"") | O189: =IFERROR(IF(_xlfn.XLOOKUP($M189,Criterion_list!$C:$C,Criterion_list!E:E)=0,"",_xlfn.XLOOKUP($M189,Criterion_list!$C:$C,Criterion_list!E:E)),"") | R189: =IF(M189="","",IF((COUNTIFS(AB189:XFD189,"NC")+COUNTIFS(AB189:XFD189,"NA")+COUNTIFS(AB189:XFD189,"C"))<COUNTA($AB$13:$XFD$13)/2,"Please select conformity for all sites",IF(COUNTIF(AB189:XFD189,"NC")>0,"NC",IF(COUNTIF(AB189:XFD189,"C")>0,"C","NA")))) | X189: =IF(M189="","",_xlfn.XLOOKUP(M189,'Criteria Mapping'!A:A,'Criteria Mapping'!W:W)) | Y189: =IF(M189="","",_xlfn.XLOOKUP(M189,'Criteria Mapping'!A:A,'Criteria Mapping'!AH:AH)) | Z189: =IF(M189="","",_xlfn.XLOOKUP(M189,'Criteria Mapping'!A:A,'Criteria Mapping'!AD:AD)) | AB189: C
I190: =IF(M190="","",INDEX(Criterion_list!F:F,MATCH('MMS criteria'!M190,Criterion_list!C:C,0))) | K190: =IFERROR(IF(_xlfn.XLOOKUP($M190,Criterion_list!$C:$C,Criterion_list!A:A)=0,"",_xlfn.XLOOKUP($M190,Criterion_list!$C:$C,Criterion_list!A:A)),"") | L190: =IFERROR(IF(_xlfn.XLOOKUP($M190,Criterion_list!$C:$C,Criterion_list!B:B)=0,"",_xlfn.XLOOKUP($M190,Criterion_list!$C:$C,Criterion_list!B:B)),"") | M190: =IF(J190="","",_xlfn.XLOOKUP(J190,'Criteria Mapping'!B:B,'Criteria Mapping'!A:A)) | N190: =IFERROR(IF(_xlfn.XLOOKUP($J190,Criterion_list!$J:$J,Criterion_list!D:D)=0,"",_xlfn.XLOOKUP($J190,Criterion_list!$J:$J,Criterion_list!D:D)),"") | O190: =IFERROR(IF(_xlfn.XLOOKUP($M190,Criterion_list!$C:$C,Criterion_list!E:E)=0,"",_xlfn.XLOOKUP($M190,Criterion_list!$C:$C,Criterion_list!E:E)),"") | R190: =IF(M190="","",IF((COUNTIFS(AB190:XFD190,"NC")+COUNTIFS(AB190:XFD190,"NA")+COUNTIFS(AB190:XFD190,"C"))<COUNTA($AB$13:$XFD$13)/2,"Please select conformity for all sites",IF(COUNTIF(AB190:XFD190,"NC")>0,"NC",IF(COUNTIF(AB190:XFD190,"C")>0,"C","NA")))) | X190: =IF(M190="","",_xlfn.XLOOKUP(M190,'Criteria Mapping'!A:A,'Criteria Mapping'!W:W)) | Y190: =IF(M190="","",_xlfn.XLOOKUP(M190,'Criteria Mapping'!A:A,'Criteria Mapping'!AH:AH)) | Z190: =IF(M190="","",_xlfn.XLOOKUP(M190,'Criteria Mapping'!A:A,'Criteria Mapping'!AD:AD)) | AB190: NC
I191: =IF(M191="","",INDEX(Criterion_list!F:F,MATCH('MMS criteria'!M191,Criterion_list!C:C,0))) | K191: =IFERROR(IF(_xlfn.XLOOKUP($M191,Criterion_list!$C:$C,Criterion_list!A:A)=0,"",_xlfn.XLOOKUP($M191,Criterion_list!$C:$C,Criterion_list!A:A)),"") | L191: =IFERROR(IF(_xlfn.XLOOKUP($M191,Criterion_list!$C:$C,Criterion_list!B:B)=0,"",_xlfn.XLOOKUP($M191,Criterion_list!$C:$C,Criterion_list!B:B)),"") | M191: =IF(J191="","",_xlfn.XLOOKUP(J191,'Criteria Mapping'!B:B,'Criteria Mapping'!A:A)) | N191: =IFERROR(IF(_xlfn.XLOOKUP($J191,Criterion_list!$J:$J,Criterion_list!D:D)=0,"",_xlfn.XLOOKUP($J191,Criterion_list!$J:$J,Criterion_list!D:D)),"") | O191: =IFERROR(IF(_xlfn.XLOOKUP($M191,Criterion_list!$C:$C,Criterion_list!E:E)=0,"",_xlfn.XLOOKUP($M191,Criterion_list!$C:$C,Criterion_list!E:E)),"") | R191: =IF(M191="","",IF((COUNTIFS(AB191:XFD191,"NC")+COUNTIFS(AB191:XFD191,"NA")+COUNTIFS(AB191:XFD191,"C"))<COUNTA($AB$13:$XFD$13)/2,"Please select conformity for all sites",IF(COUNTIF(AB191:XFD191,"NC")>0,"NC",IF(COUNTIF(AB191:XFD191,"C")>0,"C","NA")))) | X191: =IF(M191="","",_xlfn.XLOOKUP(M191,'Criteria Mapping'!A:A,'Criteria Mapping'!W:W)) | Y191: =IF(M191="","",_xlfn.XLOOKUP(M191,'Criteria Mapping'!A:A,'Criteria Mapping'!AH:AH)) | Z191: =IF(M191="","",_xlfn.XLOOKUP(M191,'Criteria Mapping'!A:A,'Criteria Mapping'!AD:AD)) | AB191: NA
I192: =IF(M192="","",INDEX(Criterion_list!F:F,MATCH('MMS criteria'!M192,Criterion_list!C:C,0))) | K192: =IFERROR(IF(_xlfn.XLOOKUP($M192,Criterion_list!$C:$C,Criterion_list!A:A)=0,"",_xlfn.XLOOKUP($M192,Criterion_list!$C:$C,Criterion_list!A:A)),"") | L192: =IFERROR(IF(_xlfn.XLOOKUP($M192,Criterion_list!$C:$C,Criterion_list!B:B)=0,"",_xlfn.XLOOKUP($M192,Criterion_list!$C:$C,Criterion_list!B:B)),"") | M192: =IF(J192="","",_xlfn.XLOOKUP(J192,'Criteria Mapping'!B:B,'Criteria Mapping'!A:A)) | N192: =IFERROR(IF(_xlfn.XLOOKUP($J192,Criterion_list!$J:$J,Criterion_list!D:D)=0,"",_xlfn.XLOOKUP($J192,Criterion_list!$J:$J,Criterion_list!D:D)),"") | O192: =IFERROR(IF(_xlfn.XLOOKUP($M192,Criterion_list!$C:$C,Criterion_list!E:E)=0,"",_xlfn.XLOOKUP($M192,Criterion_list!$C:$C,Criterion_list!E:E)),"") | R192: =IF(M192="","",IF((COUNTIFS(AB192:XFD192,"NC")+COUNTIFS(AB192:XFD192,"NA")+COUNTIFS(AB192:XFD192,"C"))<COUNTA($AB$13:$XFD$13)/2,"Please select conformity for all sites",IF(COUNTIF(AB192:XFD192,"NC")>0,"NC",IF(COUNTIF(AB192:XFD192,"C")>0,"C","NA")))) | X192: =IF(M192="","",_xlfn.XLOOKUP(M192,'Criteria Mapping'!A:A,'Criteria Mapping'!W:W)) | Y192: =IF(M192="","",_xlfn.XLOOKUP(M192,'Criteria Mapping'!A:A,'Criteria Mapping'!AH:AH)) | Z192: =IF(M192="","",_xlfn.XLOOKUP(M192,'Criteria Mapping'!A:A,'Criteria Mapping'!AD:AD)) | AB192: C
I193: =IF(M193="","",INDEX(Criterion_list!F:F,MATCH('MMS criteria'!M193,Criterion_list!C:C,0))) | K193: =IFERROR(IF(_xlfn.XLOOKUP($M193,Criterion_list!$C:$C,Criterion_list!A:A)=0,"",_xlfn.XLOOKUP($M193,Criterion_list!$C:$C,Criterion_list!A:A)),"") | L193: =IFERROR(IF(_xlfn.XLOOKUP($M193,Criterion_list!$C:$C,Criterion_list!B:B)=0,"",_xlfn.XLOOKUP($M193,Criterion_list!$C:$C,Criterion_list!B:B)),"") | M193: =IF(J193="","",_xlfn.XLOOKUP(J193,'Criteria Mapping'!B:B,'Criteria Mapping'!A:A)) | N193: =IFERROR(IF(_xlfn.XLOOKUP($J193,Criterion_list!$J:$J,Criterion_list!D:D)=0,"",_xlfn.XLOOKUP($J193,Criterion_list!$J:$J,Criterion_list!D:D)),"") | O193: =IFERROR(IF(_xlfn.XLOOKUP($M193,Criterion_list!$C:$C,Criterion_list!E:E)=0,"",_xlfn.XLOOKUP($M193,Criterion_list!$C:$C,Criterion_list!E:E)),"") | R193: =IF(M193="","",IF((COUNTIFS(AB193:XFD193,"NC")+COUNTIFS(AB193:XFD193,"NA")+COUNTIFS(AB193:XFD193,"C"))<COUNTA($AB$13:$XFD$13)/2,"Please select conformity for all sites",IF(COUNTIF(AB193:XFD193,"NC")>0,"NC",IF(COUNTIF(AB193:XFD193,"C")>0,"C","NA")))) | X193: =IF(M193="","",_xlfn.XLOOKUP(M193,'Criteria Mapping'!A:A,'Criteria Mapping'!W:W)) | Y193: =IF(M193="","",_xlfn.XLOOKUP(M193,'Criteria Mapping'!A:A,'Criteria Mapping'!AH:AH)) | Z193: =IF(M193="","",_xlfn.XLOOKUP(M193,'Criteria Mapping'!A:A,'Criteria Mapping'!AD:AD)) | AB193: NC
I194: =IF(M194="","",INDEX(Criterion_list!F:F,MATCH('MMS criteria'!M194,Criterion_list!C:C,0))) | K194: =IFERROR(IF(_xlfn.XLOOKUP($M194,Criterion_list!$C:$C,Criterion_list!A:A)=0,"",_xlfn.XLOOKUP($M194,Criterion_list!$C:$C,Criterion_list!A:A)),"") | L194: =IFERROR(IF(_xlfn.XLOOKUP($M194,Criterion_list!$C:$C,Criterion_list!B:B)=0,"",_xlfn.XLOOKUP($M194,Criterion_list!$C:$C,Criterion_list!B:B)),"") | M194: =IF(J194="","",_xlfn.XLOOKUP(J194,'Criteria Mapping'!B:B,'Criteria Mapping'!A:A)) | N194: =IFERROR(IF(_xlfn.XLOOKUP($J194,Criterion_list!$J:$J,Criterion_list!D:D)=0,"",_xlfn.XLOOKUP($J194,Criterion_list!$J:$J,Criterion_list!D:D)),"") | O194: =IFERROR(IF(_xlfn.XLOOKUP($M194,Criterion_list!$C:$C,Criterion_list!E:E)=0,"",_xlfn.XLOOKUP($M194,Criterion_list!$C:$C,Criterion_list!E:E)),"") | R194: =IF(M194="","",IF((COUNTIFS(AB194:XFD194,"NC")+COUNTIFS(AB194:XFD194,"NA")+COUNTIFS(AB194:XFD194,"C"))<COUNTA($AB$13:$XFD$13)/2,"Please select conformity for all sites",IF(COUNTIF(AB194:XFD194,"NC")>0,"NC",IF(COUNTIF(AB194:XFD194,"C")>0,"C","NA")))) | X194: =IF(M194="","",_xlfn.XLOOKUP(M194,'Criteria Mapping'!A:A,'Criteria Mapping'!W:W)) | Y194: =IF(M194="","",_xlfn.XLOOKUP(M194,'Criteria Mapping'!A:A,'Criteria Mapping'!AH:AH)) | Z194: =IF(M194="","",_xlfn.XLOOKUP(M194,'Criteria Mapping'!A:A,'Criteria Mapping'!AD:AD))
I195: =IF(M195="","",INDEX(Criterion_list!F:F,MATCH('MMS criteria'!M195,Criterion_list!C:C,0))) | K195: =IFERROR(IF(_xlfn.XLOOKUP($M195,Criterion_list!$C:$C,Criterion_list!A:A)=0,"",_xlfn.XLOOKUP($M195,Criterion_list!$C:$C,Criterion_list!A:A)),"") | L195: =IFERROR(IF(_xlfn.XLOOKUP($M195,Criterion_list!$C:$C,Criterion_list!B:B)=0,"",_xlfn.XLOOKUP($M195,Criterion_list!$C:$C,Criterion_list!B:B)),"") | M195: =IF(J195="","",_xlfn.XLOOKUP(J195,'Criteria Mapping'!B:B,'Criteria Mapping'!A:A)) | N195: =IFERROR(IF(_xlfn.XLOOKUP($J195,Criterion_list!$J:$J,Criterion_list!D:D)=0,"",_xlfn.XLOOKUP($J195,Criterion_list!$J:$J,Criterion_list!D:D)),"") | O195: =IFERROR(IF(_xlfn.XLOOKUP($M195,Criterion_list!$C:$C,Criterion_list!E:E)=0,"",_xlfn.XLOOKUP($M195,Criterion_list!$C:$C,Criterion_list!E:E)),"") | R195: =IF(M195="","",IF((COUNTIFS(AB195:XFD195,"NC")+COUNTIFS(AB195:XFD195,"NA")+COUNTIFS(AB195:XFD195,"C"))<COUNTA($AB$13:$XFD$13)/2,"Please select conformity for all sites",IF(COUNTIF(AB195:XFD195,"NC")>0,"NC",IF(COUNTIF(AB195:XFD195,"C")>0,"C","NA")))) | X195: =IF(M195="","",_xlfn.XLOOKUP(M195,'Criteria Mapping'!A:A,'Criteria Mapping'!W:W)) | Y195: =IF(M195="","",_xlfn.XLOOKUP(M195,'Criteria Mapping'!A:A,'Criteria Mapping'!AH:AH)) | Z195: =IF(M195="","",_xlfn.XLOOKUP(M195,'Criteria Mapping'!A:A,'Criteria Mapping'!AD:AD))
I196: =IF(M196="","",INDEX(Criterion_list!F:F,MATCH('MMS criteria'!M196,Criterion_list!C:C,0))) | K196: =IFERROR(IF(_xlfn.XLOOKUP($M196,Criterion_list!$C:$C,Criterion_list!A:A)=0,"",_xlfn.XLOOKUP($M196,Criterion_list!$C:$C,Criterion_list!A:A)),"") | L196: =IFERROR(IF(_xlfn.XLOOKUP($M196,Criterion_list!$C:$C,Criterion_list!B:B)=0,"",_xlfn.XLOOKUP($M196,Criterion_list!$C:$C,Criterion_list!B:B)),"") | M196: =IF(J196="","",_xlfn.XLOOKUP(J196,'Criteria Mapping'!B:B,'Criteria Mapping'!A:A)) | N196: =IFERROR(IF(_xlfn.XLOOKUP($J196,Criterion_list!$J:$J,Criterion_list!D:D)=0,"",_xlfn.XLOOKUP($J196,Criterion_list!$J:$J,Criterion_list!D:D)),"") | O196: =IFERROR(IF(_xlfn.XLOOKUP($M196,Criterion_list!$C:$C,Criterion_list!E:E)=0,"",_xlfn.XLOOKUP($M196,Criterion_list!$C:$C,Criterion_list!E:E)),"") | R196: =IF(M196="","",IF((COUNTIFS(AB196:XFD196,"NC")+COUNTIFS(AB196:XFD196,"NA")+COUNTIFS(AB196:XFD196,"C"))<COUNTA($AB$13:$XFD$13)/2,"Please select conformity for all sites",IF(COUNTIF(AB196:XFD196,"NC")>0,"NC",IF(COUNTIF(AB196:XFD196,"C")>0,"C","NA")))) | X196: =IF(M196="","",_xlfn.XLOOKUP(M196,'Criteria Mapping'!A:A,'Criteria Mapping'!W:W)) | Y196: =IF(M196="","",_xlfn.XLOOKUP(M196,'Criteria Mapping'!A:A,'Criteria Mapping'!AH:AH)) | Z196: =IF(M196="","",_xlfn.XLOOKUP(M196,'Criteria Mapping'!A:A,'Criteria Mapping'!AD:AD))
I197: =IF(M197="","",INDEX(Criterion_list!F:F,MATCH('MMS criteria'!M197,Criterion_list!C:C,0))) | K197: =IFERROR(IF(_xlfn.XLOOKUP($M197,Criterion_list!$C:$C,Criterion_list!A:A)=0,"",_xlfn.XLOOKUP($M197,Criterion_list!$C:$C,Criterion_list!A:A)),"") | L197: =IFERROR(IF(_xlfn.XLOOKUP($M197,Criterion_list!$C:$C,Criterion_list!B:B)=0,"",_xlfn.XLOOKUP($M197,Criterion_list!$C:$C,Criterion_list!B:B)),"") | M197: =IF(J197="","",_xlfn.XLOOKUP(J197,'Criteria Mapping'!B:B,'Criteria Mapping'!A:A)) | N197: =IFERROR(IF(_xlfn.XLOOKUP($J197,Criterion_list!$J:$J,Criterion_list!D:D)=0,"",_xlfn.XLOOKUP($J197,Criterion_list!$J:$J,Criterion_list!D:D)),"") | O197: =IFERROR(IF(_xlfn.XLOOKUP($M197,Criterion_list!$C:$C,Criterion_list!E:E)=0,"",_xlfn.XLOOKUP($M197,Criterion_list!$C:$C,Criterion_list!E:E)),"") | R197: =IF(M197="","",IF((COUNTIFS(AB197:XFD197,"NC")+COUNTIFS(AB197:XFD197,"NA")+COUNTIFS(AB197:XFD197,"C"))<COUNTA($AB$13:$XFD$13)/2,"Please select conformity for all sites",IF(COUNTIF(AB197:XFD197,"NC")>0,"NC",IF(COUNTIF(AB197:XFD197,"C")>0,"C","NA")))) | X197: =IF(M197="","",_xlfn.XLOOKUP(M197,'Criteria Mapping'!A:A,'Criteria Mapping'!W:W)) | Y197: =IF(M197="","",_xlfn.XLOOKUP(M197,'Criteria Mapping'!A:A,'Criteria Mapping'!AH:AH)) | Z197: =IF(M197="","",_xlfn.XLOOKUP(M197,'Criteria Mapping'!A:A,'Criteria Mapping'!AD:AD))
I198: =IF(M198="","",INDEX(Criterion_list!F:F,MATCH('MMS criteria'!M198,Criterion_list!C:C,0))) | K198: =IFERROR(IF(_xlfn.XLOOKUP($M198,Criterion_list!$C:$C,Criterion_list!A:A)=0,"",_xlfn.XLOOKUP($M198,Criterion_list!$C:$C,Criterion_list!A:A)),"") | L198: =IFERROR(IF(_xlfn.XLOOKUP($M198,Criterion_list!$C:$C,Criterion_list!B:B)=0,"",_xlfn.XLOOKUP($M198,Criterion_list!$C:$C,Criterion_list!B:B)),"") | M198: =IF(J198="","",_xlfn.XLOOKUP(J198,'Criteria Mapping'!B:B,'Criteria Mapping'!A:A)) | N198: =IFERROR(IF(_xlfn.XLOOKUP($J198,Criterion_list!$J:$J,Criterion_list!D:D)=0,"",_xlfn.XLOOKUP($J198,Criterion_list!$J:$J,Criterion_list!D:D)),"") | O198: =IFERROR(IF(_xlfn.XLOOKUP($M198,Criterion_list!$C:$C,Criterion_list!E:E)=0,"",_xlfn.XLOOKUP($M198,Criterion_list!$C:$C,Criterion_list!E:E)),"") | R198: =IF(M198="","",IF((COUNTIFS(AB198:XFD198,"NC")+COUNTIFS(AB198:XFD198,"NA")+COUNTIFS(AB198:XFD198,"C"))<COUNTA($AB$13:$XFD$13)/2,"Please select conformity for all sites",IF(COUNTIF(AB198:XFD198,"NC")>0,"NC",IF(COUNTIF(AB198:XFD198,"C")>0,"C","NA")))) | X198: =IF(M198="","",_xlfn.XLOOKUP(M198,'Criteria Mapping'!A:A,'Criteria Mapping'!W:W)) | Y198: =IF(M198="","",_xlfn.XLOOKUP(M198,'Criteria Mapping'!A:A,'Criteria Mapping'!AH:AH)) | Z198: =IF(M198="","",_xlfn.XLOOKUP(M198,'Criteria Mapping'!A:A,'Criteria Mapping'!AD:AD))
I199: =IF(M199="","",INDEX(Criterion_list!F:F,MATCH('MMS criteria'!M199,Criterion_list!C:C,0))) | K199: =IFERROR(IF(_xlfn.XLOOKUP($M199,Criterion_list!$C:$C,Criterion_list!A:A)=0,"",_xlfn.XLOOKUP($M199,Criterion_list!$C:$C,Criterion_list!A:A)),"") | L199: =IFERROR(IF(_xlfn.XLOOKUP($M199,Criterion_list!$C:$C,Criterion_list!B:B)=0,"",_xlfn.XLOOKUP($M199,Criterion_list!$C:$C,Criterion_list!B:B)),"") | M199: =IF(J199="","",_xlfn.XLOOKUP(J199,'Criteria Mapping'!B:B,'Criteria Mapping'!A:A)) | N199: =IFERROR(IF(_xlfn.XLOOKUP($J199,Criterion_list!$J:$J,Criterion_list!D:D)=0,"",_xlfn.XLOOKUP($J199,Criterion_list!$J:$J,Criterion_list!D:D)),"") | O199: =IFERROR(IF(_xlfn.XLOOKUP($M199,Criterion_list!$C:$C,Criterion_list!E:E)=0,"",_xlfn.XLOOKUP($M199,Criterion_list!$C:$C,Criterion_list!E:E)),"") | R199: =IF(M199="","",IF((COUNTIFS(AB199:XFD199,"NC")+COUNTIFS(AB199:XFD199,"NA")+COUNTIFS(AB199:XFD199,"C"))<COUNTA($AB$13:$XFD$13)/2,"Please select conformity for all sites",IF(COUNTIF(AB199:XFD199,"NC")>0,"NC",IF(COUNTIF(AB199:XFD199,"C")>0,"C","NA")))) | X199: =IF(M199="","",_xlfn.XLOOKUP(M199,'Criteria Mapping'!A:A,'Criteria Mapping'!W:W)) | Y199: =IF(M199="","",_xlfn.XLOOKUP(M199,'Criteria Mapping'!A:A,'Criteria Mapping'!AH:AH)) | Z199: =IF(M199="","",_xlfn.XLOOKUP(M199,'Criteria Mapping'!A:A,'Criteria Mapping'!AD:AD))
I200: =IF(M200="","",INDEX(Criterion_list!F:F,MATCH('MMS criteria'!M200,Criterion_list!C:C,0))) | K200: =IFERROR(IF(_xlfn.XLOOKUP($M200,Criterion_list!$C:$C,Criterion_list!A:A)=0,"",_xlfn.XLOOKUP($M200,Criterion_list!$C:$C,Criterion_list!A:A)),"") | L200: =IFERROR(IF(_xlfn.XLOOKUP($M200,Criterion_list!$C:$C,Criterion_list!B:B)=0,"",_xlfn.XLOOKUP($M200,Criterion_list!$C:$C,Criterion_list!B:B)),"") | M200: =IF(J200="","",_xlfn.XLOOKUP(J200,'Criteria Mapping'!B:B,'Criteria Mapping'!A:A)) | N200: =IFERROR(IF(_xlfn.XLOOKUP($J200,Criterion_list!$J:$J,Criterion_list!D:D)=0,"",_xlfn.XLOOKUP($J200,Criterion_list!$J:$J,Criterion_list!D:D)),"") | O200: =IFERROR(IF(_xlfn.XLOOKUP($M200,Criterion_list!$C:$C,Criterion_list!E:E)=0,"",_xlfn.XLOOKUP($M200,Criterion_list!$C:$C,Criterion_list!E:E)),"") | R200: =IF(M200="","",IF((COUNTIFS(AB200:XFD200,"NC")+COUNTIFS(AB200:XFD200,"NA")+COUNTIFS(AB200:XFD200,"C"))<COUNTA($AB$13:$XFD$13)/2,"Please select conformity for all sites",IF(COUNTIF(AB200:XFD200,"NC")>0,"NC",IF(COUNTIF(AB200:XFD200,"C")>0,"C","NA")))) | X200: =IF(M200="","",_xlfn.XLOOKUP(M200,'Criteria Mapping'!A:A,'Criteria Mapping'!W:W)) | Y200: =IF(M200="","",_xlfn.XLOOKUP(M200,'Criteria Mapping'!A:A,'Criteria Mapping'!AH:AH)) | Z200: =IF(M200="","",_xlfn.XLOOKUP(M200,'Criteria Mapping'!A:A,'Criteria Mapping'!AD:AD))
I201: =IF(M201="","",INDEX(Criterion_list!F:F,MATCH('MMS criteria'!M201,Criterion_list!C:C,0))) | K201: =IFERROR(IF(_xlfn.XLOOKUP($M201,Criterion_list!$C:$C,Criterion_list!A:A)=0,"",_xlfn.XLOOKUP($M201,Criterion_list!$C:$C,Criterion_list!A:A)),"") | L201: =IFERROR(IF(_xlfn.XLOOKUP($M201,Criterion_list!$C:$C,Criterion_list!B:B)=0,"",_xlfn.XLOOKUP($M201,Criterion_list!$C:$C,Criterion_list!B:B)),"") | M201: =IF(J201="","",_xlfn.XLOOKUP(J201,'Criteria Mapping'!B:B,'Criteria Mapping'!A:A)) | N201: =IFERROR(IF(_xlfn.XLOOKUP($J201,Criterion_list!$J:$J,Criterion_list!D:D)=0,"",_xlfn.XLOOKUP($J201,Criterion_list!$J:$J,Criterion_list!D:D)),"") | O201: =IFERROR(IF(_xlfn.XLOOKUP($M201,Criterion_list!$C:$C,Criterion_list!E:E)=0,"",_xlfn.XLOOKUP($M201,Criterion_list!$C:$C,Criterion_list!E:E)),"") | R201: =IF(M201="","",IF((COUNTIFS(AB201:XFD201,"NC")+COUNTIFS(AB201:XFD201,"NA")+COUNTIFS(AB201:XFD201,"C"))<COUNTA($AB$13:$XFD$13)/2,"Please select conformity for all sites",IF(COUNTIF(AB201:XFD201,"NC")>0,"NC",IF(COUNTIF(AB201:XFD201,"C")>0,"C","NA")))) | X201: =IF(M201="","",_xlfn.XLOOKUP(M201,'Criteria Mapping'!A:A,'Criteria Mapping'!W:W)) | Y201: =IF(M201="","",_xlfn.XLOOKUP(M201,'Criteria Mapping'!A:A,'Criteria Mapping'!AH:AH)) | Z201: =IF(M201="","",_xlfn.XLOOKUP(M201,'Criteria Mapping'!A:A,'Criteria Mapping'!AD:AD))
I202: =IF(M202="","",INDEX(Criterion_list!F:F,MATCH('MMS criteria'!M202,Criterion_list!C:C,0))) | K202: =IFERROR(IF(_xlfn.XLOOKUP($M202,Criterion_list!$C:$C,Criterion_list!A:A)=0,"",_xlfn.XLOOKUP($M202,Criterion_list!$C:$C,Criterion_list!A:A)),"") | L202: =IFERROR(IF(_xlfn.XLOOKUP($M202,Criterion_list!$C:$C,Criterion_list!B:B)=0,"",_xlfn.XLOOKUP($M202,Criterion_list!$C:$C,Criterion_list!B:B)),"") | M202: =IF(J202="","",_xlfn.XLOOKUP(J202,'Criteria Mapping'!B:B,'Criteria Mapping'!A:A)) | N202: =IFERROR(IF(_xlfn.XLOOKUP($J202,Criterion_list!$J:$J,Criterion_list!D:D)=0,"",_xlfn.XLOOKUP($J202,Criterion_list!$J:$J,Criterion_list!D:D)),"") | O202: =IFERROR(IF(_xlfn.XLOOKUP($M202,Criterion_list!$C:$C,Criterion_list!E:E)=0,"",_xlfn.XLOOKUP($M202,Criterion_list!$C:$C,Criterion_list!E:E)),"") | R202: =IF(M202="","",IF((COUNTIFS(AB202:XFD202,"NC")+COUNTIFS(AB202:XFD202,"NA")+COUNTIFS(AB202:XFD202,"C"))<COUNTA($AB$13:$XFD$13)/2,"Please select conformity for all sites",IF(COUNTIF(AB202:XFD202,"NC")>0,"NC",IF(COUNTIF(AB202:XFD202,"C")>0,"C","NA")))) | X202: =IF(M202="","",_xlfn.XLOOKUP(M202,'Criteria Mapping'!A:A,'Criteria Mapping'!W:W)) | Y202: =IF(M202="","",_xlfn.XLOOKUP(M202,'Criteria Mapping'!A:A,'Criteria Mapping'!AH:AH)) | Z202: =IF(M202="","",_xlfn.XLOOKUP(M202,'Criteria Mapping'!A:A,'Criteria Mapping'!AD:AD))
I203: =IF(M203="","",INDEX(Criterion_list!F:F,MATCH('MMS criteria'!M203,Criterion_list!C:C,0))) | K203: =IFERROR(IF(_xlfn.XLOOKUP($M203,Criterion_list!$C:$C,Criterion_list!A:A)=0,"",_xlfn.XLOOKUP($M203,Criterion_list!$C:$C,Criterion_list!A:A)),"") | L203: =IFERROR(IF(_xlfn.XLOOKUP($M203,Criterion_list!$C:$C,Criterion_list!B:B)=0,"",_xlfn.XLOOKUP($M203,Criterion_list!$C:$C,Criterion_list!B:B)),"") | M203: =IF(J203="","",_xlfn.XLOOKUP(J203,'Criteria Mapping'!B:B,'Criteria Mapping'!A:A)) | N203: =IFERROR(IF(_xlfn.XLOOKUP($J203,Criterion_list!$J:$J,Criterion_list!D:D)=0,"",_xlfn.XLOOKUP($J203,Criterion_list!$J:$J,Criterion_list!D:D)),"") | O203: =IFERROR(IF(_xlfn.XLOOKUP($M203,Criterion_list!$C:$C,Criterion_list!E:E)=0,"",_xlfn.XLOOKUP($M203,Criterion_list!$C:$C,Criterion_list!E:E)),"") | R203: =IF(M203="","",IF((COUNTIFS(AB203:XFD203,"NC")+COUNTIFS(AB203:XFD203,"NA")+COUNTIFS(AB203:XFD203,"C"))<COUNTA($AB$13:$XFD$13)/2,"Please select conformity for all sites",IF(COUNTIF(AB203:XFD203,"NC")>0,"NC",IF(COUNTIF(AB203:XFD203,"C")>0,"C","NA")))) | X203: =IF(M203="","",_xlfn.XLOOKUP(M203,'Criteria Mapping'!A:A,'Criteria Mapping'!W:W)) | Y203: =IF(M203="","",_xlfn.XLOOKUP(M203,'Criteria Mapping'!A:A,'Criteria Mapping'!AH:AH)) | Z203: =IF(M203="","",_xlfn.XLOOKUP(M203,'Criteria Mapping'!A:A,'Criteria Mapping'!AD:AD))
I204: =IF(M204="","",INDEX(Criterion_list!F:F,MATCH('MMS criteria'!M204,Criterion_list!C:C,0))) | K204: =IFERROR(IF(_xlfn.XLOOKUP($M204,Criterion_list!$C:$C,Criterion_list!A:A)=0,"",_xlfn.XLOOKUP($M204,Criterion_list!$C:$C,Criterion_list!A:A)),"") | L204: =IFERROR(IF(_xlfn.XLOOKUP($M204,Criterion_list!$C:$C,Criterion_list!B:B)=0,"",_xlfn.XLOOKUP($M204,Criterion_list!$C:$C,Criterion_list!B:B)),"") | M204: =IF(J204="","",_xlfn.XLOOKUP(J204,'Criteria Mapping'!B:B,'Criteria Mapping'!A:A)) | N204: =IFERROR(IF(_xlfn.XLOOKUP($J204,Criterion_list!$J:$J,Criterion_list!D:D)=0,"",_xlfn.XLOOKUP($J204,Criterion_list!$J:$J,Criterion_list!D:D)),"") | O204: =IFERROR(IF(_xlfn.XLOOKUP($M204,Criterion_list!$C:$C,Criterion_list!E:E)=0,"",_xlfn.XLOOKUP($M204,Criterion_list!$C:$C,Criterion_list!E:E)),"") | R204: =IF(M204="","",IF((COUNTIFS(AB204:XFD204,"NC")+COUNTIFS(AB204:XFD204,"NA")+COUNTIFS(AB204:XFD204,"C"))<COUNTA($AB$13:$XFD$13)/2,"Please select conformity for all sites",IF(COUNTIF(AB204:XFD204,"NC")>0,"NC",IF(COUNTIF(AB204:XFD204,"C")>0,"C","NA")))) | X204: =IF(M204="","",_xlfn.XLOOKUP(M204,'Criteria Mapping'!A:A,'Criteria Mapping'!W:W)) | Y204: =IF(M204="","",_xlfn.XLOOKUP(M204,'Criteria Mapping'!A:A,'Criteria Mapping'!AH:AH)) | Z204: =IF(M204="","",_xlfn.XLOOKUP(M204,'Criteria Mapping'!A:A,'Criteria Mapping'!AD:AD))
I205: =IF(M205="","",INDEX(Criterion_list!F:F,MATCH('MMS criteria'!M205,Criterion_list!C:C,0))) | K205: =IFERROR(IF(_xlfn.XLOOKUP($M205,Criterion_list!$C:$C,Criterion_list!A:A)=0,"",_xlfn.XLOOKUP($M205,Criterion_list!$C:$C,Criterion_list!A:A)),"") | L205: =IFERROR(IF(_xlfn.XLOOKUP($M205,Criterion_list!$C:$C,Criterion_list!B:B)=0,"",_xlfn.XLOOKUP($M205,Criterion_list!$C:$C,Criterion_list!B:B)),"") | M205: =IF(J205="","",_xlfn.XLOOKUP(J205,'Criteria Mapping'!B:B,'Criteria Mapping'!A:A)) | N205: =IFERROR(IF(_xlfn.XLOOKUP($J205,Criterion_list!$J:$J,Criterion_list!D:D)=0,"",_xlfn.XLOOKUP($J205,Criterion_list!$J:$J,Criterion_list!D:D)),"") | O205: =IFERROR(IF(_xlfn.XLOOKUP($M205,Criterion_list!$C:$C,Criterion_list!E:E)=0,"",_xlfn.XLOOKUP($M205,Criterion_list!$C:$C,Criterion_list!E:E)),"") | R205: =IF(M205="","",IF((COUNTIFS(AB205:XFD205,"NC")+COUNTIFS(AB205:XFD205,"NA")+COUNTIFS(AB205:XFD205,"C"))<COUNTA($AB$13:$XFD$13)/2,"Please select conformity for all sites",IF(COUNTIF(AB205:XFD205,"NC")>0,"NC",IF(COUNTIF(AB205:XFD205,"C")>0,"C","NA")))) | X205: =IF(M205="","",_xlfn.XLOOKUP(M205,'Criteria Mapping'!A:A,'Criteria Mapping'!W:W)) | Y205: =IF(M205="","",_xlfn.XLOOKUP(M205,'Criteria Mapping'!A:A,'Criteria Mapping'!AH:AH)) | Z205: =IF(M205="","",_xlfn.XLOOKUP(M205,'Criteria Mapping'!A:A,'Criteria Mapping'!AD:AD))
... I709: =IF(M709="","",INDEX(Criterion_list!F:F,MATCH('MMS criteria'!M709,Criterion_list!C:C,0))) | K709: =IFERROR(IF(_xlfn.XLOOKUP($M709,Criterion_list!$C:$C,Criterion_list!A:A)=0,"",_xlfn.XLOOKUP($M709,Criterion_list!$C:$C,Criterion_list!A:A)),"") | L709: =IFERROR(IF(_xlfn.XLOOKUP($M709,Criterion_list!$C:$C,Criterion_list!B:B)=0,"",_xlfn.XLOOKUP($M709,Criterion_list!$C:$C,Criterion_list!B:B)),"") | M709: =IF(J709="","",_xlfn.XLOOKUP(J709,'Criteria Mapping'!B:B,'Criteria Mapping'!A:A)) | N709: =IFERROR(IF(_xlfn.XLOOKUP($J709,Criterion_list!$J:$J,Criterion_list!D:D)=0,"",_xlfn.XLOOKUP($J709,Criterion_list!$J:$J,Criterion_list!D:D)),"") | O709: =IFERROR(IF(_xlfn.XLOOKUP($M709,Criterion_list!$C:$C,Criterion_list!E:E)=0,"",_xlfn.XLOOKUP($M709,Criterion_list!$C:$C,Criterion_list!E:E)),"") | R709: =IF(M709="","",IF((COUNTIFS(AB709:XFD709,"NC")+COUNTIFS(AB709:XFD709,"NA")+COUNTIFS(AB709:XFD709,"C"))<COUNTA($AB$13:$XFD$13)/2,"Please select conformity for all sites",IF(COUNTIF(AB709:XFD709,"NC")>0,"NC",IF(COUNTIF(AB709:XFD709,"C")>0,"C","NA")))) | X709: =IF(M709="","",_xlfn.XLOOKUP(M709,'Criteria Mapping'!A:A,'Criteria Mapping'!W:W)) | Y709: =IF(M709="","",_xlfn.XLOOKUP(M709,'Criteria Mapping'!A:A,'Criteria Mapping'!AH:AH)) | Z709: =IF(M709="","",_xlfn.XLOOKUP(M709,'Criteria Mapping'!A:A,'Criteria Mapping'!AD:AD))

Sheet Criteria Mapping
A1: Criterion # | B1: Criterion key | C1: Material | D1: Size | E1: Tier 4 | F1: NEW Tier 4 CRITERIA MAPPING | G1: Filter | I1: Type | J1: Material | K1: Tier 4 | N1: {=TRANSPOSE(_xlfn.ANCHORARRAY(I2))} -> #VALUE! | W1: Concat | Y1: {=TRANSPOSE(_xlfn.ANCHORARRAY(J2))} -> #VALUE! | AD1: Concat | AF1: {=TRANSPOSE(K2:K3)} -> #VALUE! | AG1: 0 | AH1: Concat
A2: 1.1.1 | B2: 1.1.1 | C2: All | D2: All | E2: Raw Material Production,Primary Processing | F2: All | G2: {=IF(OR(ISERROR($I$2),ISERROR($J$2),ISERROR($K$2)),0,IF( IF(SUMPRODUCT((TRIM(_xlfn.TEXTSPLIT(C2,"• "))<>"")*COUNTIF(J:J,SUBSTITUTE(TRIM(_xlfn.TEXTSPLIT(C2,"• ")),CHAR(10),"")))>0,1,IF(C2="All",1,0)) + IF(SUMPRODUCT((TRIM(_xlfn.TEXTSPLIT(E2,","))<>"")*COUNTIF(K:K,TRIM(_xlfn.TEXTSPLIT(E2,","))))>0,1,IF(E2="All",1,0)) + IF(SUMPRODUCT((TRIM(_xlfn.TEXTSPLIT(D2,"• "))<>"")*COUNTIF(I:I,SUBSTITUTE(TRIM(_xlfn.TEXTSPLIT(D2,"• ")),CHAR(10),"")))>0,1,IF(D2="All",1,0)) =3, 1, IF(F2="All",1,0) ))} -> 0 | I2: {=_xlfn._xlws.FILTER(_xlfn.UNIQUE(General!R45:R1048576),_xlfn.UNIQUE(General!R45:R1048576)<>"")} -> #VALUE! | J2: {=_xlfn._xlws.FILTER(Ref!D:D,Ref!D:D<>"")} -> #VALUE! | K2: {=_xlfn.UNIQUE(_xlfn._xlws.FILTER('Tier 4 type'!C2:C19,'Tier 4 type'!F2:F19>0))} -> #VALUE! | N2: =IF(N$1="",0,IF(ISNUMBER(SEARCH(N$1,$D2)),1,0)) -> #VALUE! | O2: =IF(O$1="",0,IF(ISNUMBER(SEARCH(O$1,$D2)),1,0)) -> 0 | P2: =IF(P$1="",0,IF(ISNUMBER(SEARCH(P$1,$D2)),1,0)) -> 0 | Q2: =IF(Q$1="",0,IF(ISNUMBER(SEARCH(Q$1,$D2)),1,0)) -> 0 | R2: =IF(R$1="",0,IF(ISNUMBER(SEARCH(R$1,$D2)),1,0)) -> 0 | S2: =IF(S$1="",0,IF(ISNUMBER(SEARCH(S$1,$D2)),1,0)) -> 0 | W2: =_xlfn.TEXTJOIN(",",TRUE,_xlfn._xlws.FILTER($N$1:$S$1,N2:S2,1)) -> #VALUE! | Y2: =IF(Y$1="",0,IF(ISNUMBER(SEARCH(Y$1,$C2)),1,0)) -> #VALUE! | Z2: =IF(Z$1="",0,IF(ISNUMBER(SEARCH(Z$1,$C2)),1,0)) -> 0 | AA2: =IF(AA$1="",0,IF(ISNUMBER(SEARCH(AA$1,$C2)),1,0)) -> 0 | AB2: =IF(AB$1="",0,IF(ISNUMBER(SEARCH(AB$1,$C2)),1,0)) -> 0 | AC2: =IF(AC$1="",0,IF(ISNUMBER(SEARCH(AC$1,$C2)),1,0)) -> 0 | AD2: =_xlfn.TEXTJOIN(",",TRUE,_xlfn._xlws.FILTER($Y$1:$AC$1,Y2:AC2,1)) -> #VALUE! | AF2: =IF(AF$1="",0,IF(ISNUMBER(SEARCH(AF$1,$E2)),1,0)) -> #VALUE! | AG2: =IF(AG$1="",0,IF(ISNUMBER(SEARCH(AG$1,$E2)),1,0)) -> 0 | AH2: =_xlfn.TEXTJOIN(",",TRUE,_xlfn._xlws.FILTER($AF$1:$AG$1,AF2:AG2,1)) -> #VALUE!
A3: 1.1.2 | B3: 1.1.2 | C3: All | D3: All | E3: Raw Material Production,Primary Processing | F3: All | G3: {=IF(OR(ISERROR($I$2),ISERROR($J$2),ISERROR($K$2)),0,IF( IF(SUMPRODUCT((TRIM(_xlfn.TEXTSPLIT(C3,"• "))<>"")*COUNTIF(J:J,SUBSTITUTE(TRIM(_xlfn.TEXTSPLIT(C3,"• ")),CHAR(10),"")))>0,1,IF(C3="All",1,0)) + IF(SUMPRODUCT((TRIM(_xlfn.TEXTSPLIT(E3,","))<>"")*COUNTIF(K:K,TRIM(_xlfn.TEXTSPLIT(E3,","))))>0,1,IF(E3="All",1,0)) + IF(SUMPRODUCT((TRIM(_xlfn.TEXTSPLIT(D3,"• "))<>"")*COUNTIF(I:I,SUBSTITUTE(TRIM(_xlfn.TEXTSPLIT(D3,"• ")),CHAR(10),"")))>0,1,IF(D3="All",1,0)) =3, 1, IF(F3="All",1,0) ))} -> 0 | N3: =IF(N$1="",0,IF(ISNUMBER(SEARCH(N$1,$D3)),1,0)) -> #VALUE! | O3: =IF(O$1="",0,IF(ISNUMBER(SEARCH(O$1,$D3)),1,0)) -> 0 | P3: =IF(P$1="",0,IF(ISNUMBER(SEARCH(P$1,$D3)),1,0)) -> 0 | Q3: =IF(Q$1="",0,IF(ISNUMBER(SEARCH(Q$1,$D3)),1,0)) -> 0 | R3: =IF(R$1="",0,IF(ISNUMBER(SEARCH(R$1,$D3)),1,0)) -> 0 | S3: =IF(S$1="",0,IF(ISNUMBER(SEARCH(S$1,$D3)),1,0)) -> 0 | W3: =_xlfn.TEXTJOIN(",",TRUE,_xlfn._xlws.FILTER($N$1:$S$1,N3:S3,1)) -> #VALUE! | Y3: =IF(Y$1="",0,IF(ISNUMBER(SEARCH(Y$1,$C3)),1,0)) -> #VALUE! | Z3: =IF(Z$1="",0,IF(ISNUMBER(SEARCH(Z$1,$C3)),1,0)) -> 0 | AA3: =IF(AA$1="",0,IF(ISNUMBER(SEARCH(AA$1,$C3)),1,0)) -> 0 | AB3: =IF(AB$1="",0,IF(ISNUMBER(SEARCH(AB$1,$C3)),1,0)) -> 0 | AC3: =IF(AC$1="",0,IF(ISNUMBER(SEARCH(AC$1,$C3)),1,0)) -> 0 | AD3: =_xlfn.TEXTJOIN(",",TRUE,_xlfn._xlws.FILTER($Y$1:$AC$1,Y3:AC3,1)) -> #VALUE! | AF3: =IF(AF$1="",0,IF(ISNUMBER(SEARCH(AF$1,$E3)),1,0)) -> #VALUE! | AG3: =IF(AG$1="",0,IF(ISNUMBER(SEARCH(AG$1,$E3)),1,0)) -> 0 | AH3: =_xlfn.TEXTJOIN(",",TRUE,_xlfn._xlws.FILTER($AF$1:$AG$1,AF3:AG3,1)) -> #VALUE!
A4: 1.1.3 | B4: 1.1.3 | C4: All | D4: All | E4: Raw Material Production,Primary Processing | F4: All | G4: {=IF(OR(ISERROR($I$2),ISERROR($J$2),ISERROR($K$2)),0,IF( IF(SUMPRODUCT((TRIM(_xlfn.TEXTSPLIT(C4,"• "))<>"")*COUNTIF(J:J,SUBSTITUTE(TRIM(_xlfn.TEXTSPLIT(C4,"• ")),CHAR(10),"")))>0,1,IF(C4="All",1,0)) + IF(SUMPRODUCT((TRIM(_xlfn.TEXTSPLIT(E4,","))<>"")*COUNTIF(K:K,TRIM(_xlfn.TEXTSPLIT(E4,","))))>0,1,IF(E4="All",1,0)) + IF(SUMPRODUCT((TRIM(_xlfn.TEXTSPLIT(D4,"• "))<>"")*COUNTIF(I:I,SUBSTITUTE(TRIM(_xlfn.TEXTSPLIT(D4,"• ")),CHAR(10),"")))>0,1,IF(D4="All",1,0)) =3, 1, IF(F4="All",1,0) ))} -> 0 | N4: =IF(N$1="",0,IF(ISNUMBER(SEARCH(N$1,$D4)),1,0)) -> #VALUE! | O4: =IF(O$1="",0,IF(ISNUMBER(SEARCH(O$1,$D4)),1,0)) -> 0 | P4: =IF(P$1="",0,IF(ISNUMBER(SEARCH(P$1,$D4)),1,0)) -> 0 | Q4: =IF(Q$1="",0,IF(ISNUMBER(SEARCH(Q$1,$D4)),1,0)) -> 0 | R4: =IF(R$1="",0,IF(ISNUMBER(SEARCH(R$1,$D4)),1,0)) -> 0 | S4: =IF(S$1="",0,IF(ISNUMBER(SEARCH(S$1,$D4)),1,0)) -> 0 | W4: =_xlfn.TEXTJOIN(",",TRUE,_xlfn._xlws.FILTER($N$1:$S$1,N4:S4,1)) -> #VALUE! | Y4: =IF(Y$1="",0,IF(ISNUMBER(SEARCH(Y$1,$C4)),1,0)) -> #VALUE! | Z4: =IF(Z$1="",0,IF(ISNUMBER(SEARCH(Z$1,$C4)),1,0)) -> 0 | AA4: =IF(AA$1="",0,IF(ISNUMBER(SEARCH(AA$1,$C4)),1,0)) -> 0 | AB4: =IF(AB$1="",0,IF(ISNUMBER(SEARCH(AB$1,$C4)),1,0)) -> 0 | AC4: =IF(AC$1="",0,IF(ISNUMBER(SEARCH(AC$1,$C4)),1,0)) -> 0 | AD4: =_xlfn.TEXTJOIN(",",TRUE,_xlfn._xlws.FILTER($Y$1:$AC$1,Y4:AC4,1)) -> #VALUE! | AF4: =IF(AF$1="",0,IF(ISNUMBER(SEARCH(AF$1,$E4)),1,0)) -> #VALUE! | AG4: =IF(AG$1="",0,IF(ISNUMBER(SEARCH(AG$1,$E4)),1,0)) -> 0 | AH4: =_xlfn.TEXTJOIN(",",TRUE,_xlfn._xlws.FILTER($AF$1:$AG$1,AF4:AG4,1)) -> #VALUE!
A5: 1.1.4 | B5: 1.1.4 | C5: All | D5: All | E5: Raw Material Production,Primary Processing | F5: All | G5: {=IF(OR(ISERROR($I$2),ISERROR($J$2),ISERROR($K$2)),0,IF( IF(SUMPRODUCT((TRIM(_xlfn.TEXTSPLIT(C5,"• "))<>"")*COUNTIF(J:J,SUBSTITUTE(TRIM(_xlfn.TEXTSPLIT(C5,"• ")),CHAR(10),"")))>0,1,IF(C5="All",1,0)) + IF(SUMPRODUCT((TRIM(_xlfn.TEXTSPLIT(E5,","))<>"")*COUNTIF(K:K,TRIM(_xlfn.TEXTSPLIT(E5,","))))>0,1,IF(E5="All",1,0)) + IF(SUMPRODUCT((TRIM(_xlfn.TEXTSPLIT(D5,"• "))<>"")*COUNTIF(I:I,SUBSTITUTE(TRIM(_xlfn.TEXTSPLIT(D5,"• ")),CHAR(10),"")))>0,1,IF(D5="All",1,0)) =3, 1, IF(F5="All",1,0) ))} -> 0 | N5: =IF(N$1="",0,IF(ISNUMBER(SEARCH(N$1,$D5)),1,0)) -> #VALUE! | O5: =IF(O$1="",0,IF(ISNUMBER(SEARCH(O$1,$D5)),1,0)) -> 0 | P5: =IF(P$1="",0,IF(ISNUMBER(SEARCH(P$1,$D5)),1,0)) -> 0 | Q5: =IF(Q$1="",0,IF(ISNUMBER(SEARCH(Q$1,$D5)),1,0)) -> 0 | R5: =IF(R$1="",0,IF(ISNUMBER(SEARCH(R$1,$D5)),1,0)) -> 0 | S5: =IF(S$1="",0,IF(ISNUMBER(SEARCH(S$1,$D5)),1,0)) -> 0 | W5: =_xlfn.TEXTJOIN(",",TRUE,_xlfn._xlws.FILTER($N$1:$S$1,N5:S5,1)) -> #VALUE! | Y5: =IF(Y$1="",0,IF(ISNUMBER(SEARCH(Y$1,$C5)),1,0)) -> #VALUE! | Z5: =IF(Z$1="",0,IF(ISNUMBER(SEARCH(Z$1,$C5)),1,0)) -> 0 | AA5: =IF(AA$1="",0,IF(ISNUMBER(SEARCH(AA$1,$C5)),1,0)) -> 0 | AB5: =IF(AB$1="",0,IF(ISNUMBER(SEARCH(AB$1,$C5)),1,0)) -> 0 | AC5: =IF(AC$1="",0,IF(ISNUMBER(SEARCH(AC$1,$C5)),1,0)) -> 0 | AD5: =_xlfn.TEXTJOIN(",",TRUE,_xlfn._xlws.FILTER($Y$1:$AC$1,Y5:AC5,1)) -> #VALUE! | AF5: =IF(AF$1="",0,IF(ISNUMBER(SEARCH(AF$1,$E5)),1,0)) -> #VALUE! | AG5: =IF(AG$1="",0,IF(ISNUMBER(SEARCH(AG$1,$E5)),1,0)) -> 0 | AH5: =_xlfn.TEXTJOIN(",",TRUE,_xlfn._xlws.FILTER($AF$1:$AG$1,AF5:AG5,1)) -> #VALUE!
